BEGIN:VCALENDAR
VERSION:2.0
PRODID:-//Shiva Vishnu Temple of South Florida - ECPv4.6//NONSGML v1.0//EN
CALSCALE:GREGORIAN
METHOD:PUBLISH
X-WR-CALNAME:Shiva Vishnu Temple of South Florida
X-ORIGINAL-URL:https://shivavishnu.org
X-WR-CALDESC:Events for Shiva Vishnu Temple of South Florida
BEGIN:VEVENT
DTSTART;TZID=America/New_York:20250807T100000
DTEND;TZID=America/New_York:20250807T100000
DTSTAMP:20260425T032736
CREATED:20250713T232402Z
LAST-MODIFIED:20250713T232402Z
UID:36356-1754560800-1754560800@shivavishnu.org
SUMMARY:/
DESCRIPTION:Uttarasadha \n
URL:https://shivavishnu.org/event/36356/
END:VEVENT
END:VCALENDAR