BEGIN:VCALENDAR
VERSION:2.0
PRODID:-//Shiva Vishnu Temple of South Florida - ECPv4.6//NONSGML v1.0//EN
CALSCALE:GREGORIAN
METHOD:PUBLISH
X-WR-CALNAME:Shiva Vishnu Temple of South Florida
X-ORIGINAL-URL:https://shivavishnu.org
X-WR-CALDESC:Events for Shiva Vishnu Temple of South Florida
BEGIN:VEVENT
DTSTART;TZID=America/New_York:20251225T103000
DTEND;TZID=America/New_York:20251225T103000
DTSTAMP:20260424T223402
CREATED:20251001T004113Z
LAST-MODIFIED:20251001T004113Z
UID:36691-1766658600-1766658600@shivavishnu.org
SUMMARY:/
DESCRIPTION:Satabhisha \n
URL:https://shivavishnu.org/event/36691/
END:VEVENT
END:VCALENDAR