BEGIN:VCALENDAR
VERSION:2.0
PRODID:-//Shiva Vishnu Temple of South Florida - ECPv4.6//NONSGML v1.0//EN
CALSCALE:GREGORIAN
METHOD:PUBLISH
X-WR-CALNAME:Shiva Vishnu Temple of South Florida
X-ORIGINAL-URL:https://shivavishnu.org
X-WR-CALDESC:Events for Shiva Vishnu Temple of South Florida
BEGIN:VEVENT
DTSTART;TZID=America/New_York:20260507T100000
DTEND;TZID=America/New_York:20260507T100000
DTSTAMP:20260422T161653
CREATED:20260403T224045Z
LAST-MODIFIED:20260403T224045Z
UID:37070-1778148000-1778148000@shivavishnu.org
SUMMARY:/
DESCRIPTION:Poorvasadha \n
URL:https://shivavishnu.org/event/37070/
END:VEVENT
END:VCALENDAR