BEGIN:VCALENDAR
VERSION:2.0
PRODID:-//Shiva Vishnu Temple of South Florida - ECPv4.6//NONSGML v1.0//EN
CALSCALE:GREGORIAN
METHOD:PUBLISH
X-WR-CALNAME:Shiva Vishnu Temple of South Florida
X-ORIGINAL-URL:https://shivavishnu.org
X-WR-CALDESC:Events for Shiva Vishnu Temple of South Florida
BEGIN:VEVENT
DTSTART;TZID=America/New_York:20260513T100000
DTEND;TZID=America/New_York:20260513T100000
DTSTAMP:20260421T233015
CREATED:20260403T224055Z
LAST-MODIFIED:20260403T224055Z
UID:37076-1778666400-1778666400@shivavishnu.org
SUMMARY:/
DESCRIPTION:Uttarabhadra \n
URL:https://shivavishnu.org/event/37076/
END:VEVENT
END:VCALENDAR