BEGIN:VCALENDAR
VERSION:2.0
PRODID:-//Shiva Vishnu Temple of South Florida - ECPv4.6//NONSGML v1.0//EN
CALSCALE:GREGORIAN
METHOD:PUBLISH
X-WR-CALNAME:Shiva Vishnu Temple of South Florida
X-ORIGINAL-URL:https://shivavishnu.org
X-WR-CALDESC:Events for Shiva Vishnu Temple of South Florida
BEGIN:VEVENT
DTSTART;TZID=America/New_York:20250921T100000
DTEND;TZID=America/New_York:20250921T100000
DTSTAMP:20260423T185817
CREATED:20250714T084029Z
LAST-MODIFIED:20250714T084029Z
UID:36443-1758448800-1758448800@shivavishnu.org
SUMMARY:Abhishekam to Ayyappa
DESCRIPTION:Uttara Phalguni/Amavasya/Mahalaya Paksham ends \n
URL:https://shivavishnu.org/event/abhishekam-to-ayyappa-137/
END:VEVENT
END:VCALENDAR