BEGIN:VCALENDAR
VERSION:2.0
PRODID:-//Shiva Vishnu Temple of South Florida - ECPv4.6//NONSGML v1.0//EN
CALSCALE:GREGORIAN
METHOD:PUBLISH
X-WR-CALNAME:Shiva Vishnu Temple of South Florida
X-ORIGINAL-URL:https://shivavishnu.org
X-WR-CALDESC:Events for Shiva Vishnu Temple of South Florida
BEGIN:VEVENT
DTSTART;TZID=America/New_York:20251226T100000
DTEND;TZID=America/New_York:20251226T100000
DTSTAMP:20260423T183658
CREATED:20251001T004114Z
LAST-MODIFIED:20251001T004114Z
UID:36692-1766743200-1766743200@shivavishnu.org
SUMMARY:Abhishekam to Ayyappa
DESCRIPTION:Poorvabhadra/Ayyappa Mandala  Pooja ends \n
URL:https://shivavishnu.org/event/abhishekam-to-ayyappa-139/
END:VEVENT
END:VCALENDAR