BEGIN:VCALENDAR
VERSION:2.0
PRODID:-//Shiva Vishnu Temple of South Florida - ECPv4.6//NONSGML v1.0//EN
CALSCALE:GREGORIAN
METHOD:PUBLISH
X-WR-CALNAME:Shiva Vishnu Temple of South Florida
X-ORIGINAL-URL:https://shivavishnu.org
X-WR-CALDESC:Events for Shiva Vishnu Temple of South Florida
BEGIN:VEVENT
DTSTART;TZID=America/New_York:20260331T101500
DTEND;TZID=America/New_York:20260331T101500
DTSTAMP:20260421T110232
CREATED:20251227T214509Z
LAST-MODIFIED:20251227T214509Z
UID:36909-1774952100-1774952100@shivavishnu.org
SUMMARY:Abhishekam to Ayyappa
DESCRIPTION:Uttaraphalguni \n
URL:https://shivavishnu.org/event/abhishekam-to-ayyappa-143/
END:VEVENT
END:VCALENDAR