BEGIN:VCALENDAR
VERSION:2.0
PRODID:-//Shiva Vishnu Temple of South Florida - ECPv4.6//NONSGML v1.0//EN
CALSCALE:GREGORIAN
METHOD:PUBLISH
X-WR-CALNAME:Shiva Vishnu Temple of South Florida
X-ORIGINAL-URL:https://shivavishnu.org
X-WR-CALDESC:Events for Shiva Vishnu Temple of South Florida
BEGIN:VEVENT
DTSTART;TZID=America/New_York:20260401T101500
DTEND;TZID=America/New_York:20260401T101500
DTSTAMP:20260421T124148
CREATED:20260402T213109Z
LAST-MODIFIED:20260402T213109Z
UID:37003-1775038500-1775038500@shivavishnu.org
SUMMARY:Abhishekam to Ayyappa
DESCRIPTION:Uttara phalguni \n
URL:https://shivavishnu.org/event/abhishekam-to-ayyappa-144/
END:VEVENT
END:VCALENDAR