BEGIN:VCALENDAR
VERSION:2.0
PRODID:-//Shiva Vishnu Temple of South Florida - ECPv4.6//NONSGML v1.0//EN
CALSCALE:GREGORIAN
METHOD:PUBLISH
X-WR-CALNAME:Shiva Vishnu Temple of South Florida
X-ORIGINAL-URL:https://shivavishnu.org
X-WR-CALDESC:Events for Shiva Vishnu Temple of South Florida
BEGIN:VEVENT
DTSTART;TZID=America/New_York:20260405T183000
DTEND;TZID=America/New_York:20260405T183000
DTSTAMP:20260419T130157
CREATED:20260402T213119Z
LAST-MODIFIED:20260402T213119Z
UID:37009-1775413800-1775413800@shivavishnu.org
SUMMARY:Abhishekam to Ganesha
DESCRIPTION:Visakha \n
URL:https://shivavishnu.org/event/abhishekam-to-ganesha-159/
END:VEVENT
END:VCALENDAR