BEGIN:VCALENDAR
VERSION:2.0
PRODID:-//Shiva Vishnu Temple of South Florida - ECPv4.6//NONSGML v1.0//EN
CALSCALE:GREGORIAN
METHOD:PUBLISH
X-WR-CALNAME:Shiva Vishnu Temple of South Florida
X-ORIGINAL-URL:https://shivavishnu.org
X-WR-CALDESC:Events for Shiva Vishnu Temple of South Florida
BEGIN:VEVENT
DTSTART;TZID=America/New_York:20260505T183000
DTEND;TZID=America/New_York:20260505T183000
DTSTAMP:20260422T121429
CREATED:20260403T224037Z
LAST-MODIFIED:20260403T224037Z
UID:37066-1778005800-1778005800@shivavishnu.org
SUMMARY:Abhishekam to Ganesha
DESCRIPTION:Moola/Sankatahara Chaturthi \n
URL:https://shivavishnu.org/event/abhishekam-to-ganesha-161/
END:VEVENT
END:VCALENDAR