BEGIN:VCALENDAR
VERSION:2.0
PRODID:-//Shiva Vishnu Temple of South Florida - ECPv4.6//NONSGML v1.0//EN
CALSCALE:GREGORIAN
METHOD:PUBLISH
X-WR-CALNAME:Shiva Vishnu Temple of South Florida
X-ORIGINAL-URL:https://shivavishnu.org
X-WR-CALDESC:Events for Shiva Vishnu Temple of South Florida
BEGIN:VEVENT
DTSTART;TZID=America/New_York:20250922T093000
DTEND;TZID=America/New_York:20250922T093000
DTSTAMP:20260425T022752
CREATED:20250714T084031Z
LAST-MODIFIED:20250714T084031Z
UID:36446-1758533400-1758533400@shivavishnu.org
SUMMARY:Abhishekam to Kamakshi
DESCRIPTION:MASA: Asvijam: Hasta \n
URL:https://shivavishnu.org/event/abhishekam-to-kamakshi-126/
END:VEVENT
END:VCALENDAR