BEGIN:VCALENDAR
VERSION:2.0
PRODID:-//Shiva Vishnu Temple of South Florida - ECPv4.6//NONSGML v1.0//EN
CALSCALE:GREGORIAN
METHOD:PUBLISH
X-WR-CALNAME:Shiva Vishnu Temple of South Florida
X-ORIGINAL-URL:https://shivavishnu.org
X-WR-CALDESC:Events for Shiva Vishnu Temple of South Florida
BEGIN:VEVENT
DTSTART;TZID=America/New_York:20260628T100000
DTEND;TZID=America/New_York:20260628T100000
DTSTAMP:20260424T202550
CREATED:20260403T225555Z
LAST-MODIFIED:20260403T225555Z
UID:37155-1782640800-1782640800@shivavishnu.org
SUMMARY:Abhishekam to Kamakshi followed by  Lalitha Sahasranama Parayanam
DESCRIPTION:Jyeshta \n
URL:https://shivavishnu.org/event/abhishekam-to-kamakshi-followed-by-lalitha-sahasranama-parayanam-7/
END:VEVENT
END:VCALENDAR