BEGIN:VCALENDAR
VERSION:2.0
PRODID:-//Shiva Vishnu Temple of South Florida - ECPv4.6//NONSGML v1.0//EN
CALSCALE:GREGORIAN
METHOD:PUBLISH
X-WR-CALNAME:Shiva Vishnu Temple of South Florida
X-ORIGINAL-URL:https://shivavishnu.org
X-WR-CALDESC:Events for Shiva Vishnu Temple of South Florida
BEGIN:VEVENT
DTSTART;TZID=America/New_York:20260530T103000
DTEND;TZID=America/New_York:20260530T103000
DTSTAMP:20260424T054130
CREATED:20260403T224134Z
LAST-MODIFIED:20260403T224134Z
UID:37101-1780137000-1780137000@shivavishnu.org
SUMMARY:Abhishekam to Navagrahas
DESCRIPTION:Anuradha \n
URL:https://shivavishnu.org/event/abhishekam-to-navagrahas-156/
END:VEVENT
END:VCALENDAR