BEGIN:VCALENDAR
VERSION:2.0
PRODID:-//Shiva Vishnu Temple of South Florida - ECPv4.6//NONSGML v1.0//EN
CALSCALE:GREGORIAN
METHOD:PUBLISH
X-WR-CALNAME:Shiva Vishnu Temple of South Florida
X-ORIGINAL-URL:https://shivavishnu.org
X-WR-CALDESC:Events for Shiva Vishnu Temple of South Florida
BEGIN:VEVENT
DTSTART;TZID=America/New_York:20260601T100000
DTEND;TZID=America/New_York:20260601T100000
DTSTAMP:20260422T144052
CREATED:20260403T225447Z
LAST-MODIFIED:20260403T225651Z
UID:37115-1780308000-1780308000@shivavishnu.org
SUMMARY:Guru Peyarchi
DESCRIPTION:Guru Peyarchi\nAbhishekam to Navagrahas\n
URL:https://shivavishnu.org/event/abhishekam-to-navagrahas-157/
END:VEVENT
END:VCALENDAR