BEGIN:VCALENDAR
VERSION:2.0
PRODID:-//Shiva Vishnu Temple of South Florida - ECPv4.6//NONSGML v1.0//EN
CALSCALE:GREGORIAN
METHOD:PUBLISH
X-WR-CALNAME:Shiva Vishnu Temple of South Florida
X-ORIGINAL-URL:https://shivavishnu.org
X-WR-CALDESC:Events for Shiva Vishnu Temple of South Florida
BEGIN:VEVENT
DTSTART;TZID=America/New_York:20260408T100000
DTEND;TZID=America/New_York:20260408T100000
DTSTAMP:20260421T093910
CREATED:20260402T213125Z
LAST-MODIFIED:20260402T213125Z
UID:37012-1775642400-1775642400@shivavishnu.org
SUMMARY:Abhishekam to Saraswathi
DESCRIPTION:Moola \n
URL:https://shivavishnu.org/event/abhishekam-to-saraswathi-146/
END:VEVENT
END:VCALENDAR