BEGIN:VCALENDAR
VERSION:2.0
PRODID:-//Shiva Vishnu Temple of South Florida - ECPv4.6//NONSGML v1.0//EN
CALSCALE:GREGORIAN
METHOD:PUBLISH
X-WR-CALNAME:Shiva Vishnu Temple of South Florida
X-ORIGINAL-URL:https://shivavishnu.org
X-WR-CALDESC:Events for Shiva Vishnu Temple of South Florida
BEGIN:VEVENT
DTSTART;TZID=America/New_York:20250904T183000
DTEND;TZID=America/New_York:20250904T183000
DTSTAMP:20260423T190135
CREATED:20250714T084014Z
LAST-MODIFIED:20250714T084014Z
UID:36418-1757010600-1757010600@shivavishnu.org
SUMMARY:Abhishekam to Shiva
DESCRIPTION:Uttarasadha/Pradosham \n
URL:https://shivavishnu.org/event/abhishekam-to-shiva-758/
END:VEVENT
END:VCALENDAR