BEGIN:VCALENDAR
VERSION:2.0
PRODID:-//Shiva Vishnu Temple of South Florida - ECPv4.6//NONSGML v1.0//EN
CALSCALE:GREGORIAN
METHOD:PUBLISH
X-WR-CALNAME:Shiva Vishnu Temple of South Florida
X-ORIGINAL-URL:https://shivavishnu.org
X-WR-CALDESC:Events for Shiva Vishnu Temple of South Florida
BEGIN:VEVENT
DTSTART;TZID=America/New_York:20250918T183000
DTEND;TZID=America/New_York:20250918T183000
DTSTAMP:20260423T185849
CREATED:20250714T084026Z
LAST-MODIFIED:20250714T084026Z
UID:36439-1758220200-1758220200@shivavishnu.org
SUMMARY:Abhishekam to Shiva
DESCRIPTION:Aslesha/Pradosham \n
URL:https://shivavishnu.org/event/abhishekam-to-shiva-761/
END:VEVENT
END:VCALENDAR