BEGIN:VCALENDAR
VERSION:2.0
PRODID:-//Shiva Vishnu Temple of South Florida - ECPv4.6//NONSGML v1.0//EN
CALSCALE:GREGORIAN
METHOD:PUBLISH
X-WR-CALNAME:Shiva Vishnu Temple of South Florida
X-ORIGINAL-URL:https://shivavishnu.org
X-WR-CALDESC:Events for Shiva Vishnu Temple of South Florida
BEGIN:VEVENT
DTSTART;TZID=America/New_York:20251126T100000
DTEND;TZID=America/New_York:20251126T100000
DTSTAMP:20260423T184326
CREATED:20251001T002549Z
LAST-MODIFIED:20251001T002549Z
UID:36634-1764151200-1764151200@shivavishnu.org
SUMMARY:Abhishekam to Shiva
DESCRIPTION:Sravana \n
URL:https://shivavishnu.org/event/abhishekam-to-shiva-771/
END:VEVENT
END:VCALENDAR