BEGIN:VCALENDAR
VERSION:2.0
PRODID:-//Shiva Vishnu Temple of South Florida - ECPv4.6//NONSGML v1.0//EN
CALSCALE:GREGORIAN
METHOD:PUBLISH
X-WR-CALNAME:Shiva Vishnu Temple of South Florida
X-ORIGINAL-URL:https://shivavishnu.org
X-WR-CALDESC:Events for Shiva Vishnu Temple of South Florida
BEGIN:VEVENT
DTSTART;TZID=America/New_York:20251217T183000
DTEND;TZID=America/New_York:20251217T183000
DTSTAMP:20260423T183828
CREATED:20251001T004106Z
LAST-MODIFIED:20251001T004106Z
UID:36679-1765996200-1765996200@shivavishnu.org
SUMMARY:Abhishekam to Shiva
DESCRIPTION:Visakha/Pradosham \n
URL:https://shivavishnu.org/event/abhishekam-to-shiva-778/
END:VEVENT
END:VCALENDAR