BEGIN:VCALENDAR
VERSION:2.0
PRODID:-//Shiva Vishnu Temple of South Florida - ECPv4.6//NONSGML v1.0//EN
CALSCALE:GREGORIAN
METHOD:PUBLISH
X-WR-CALNAME:Shiva Vishnu Temple of South Florida
X-ORIGINAL-URL:https://shivavishnu.org
X-WR-CALDESC:Events for Shiva Vishnu Temple of South Florida
BEGIN:VEVENT
DTSTART;TZID=America/New_York:20260216T183000
DTEND;TZID=America/New_York:20260216T183000
DTSTAMP:20260424T090753
CREATED:20251227T163425Z
LAST-MODIFIED:20251227T163425Z
UID:36827-1771266600-1771266600@shivavishnu.org
SUMMARY:Abhishekam to Shiva
DESCRIPTION:Sravanam \n
URL:https://shivavishnu.org/event/abhishekam-to-shiva-791/
END:VEVENT
END:VCALENDAR