BEGIN:VCALENDAR
VERSION:2.0
PRODID:-//Shiva Vishnu Temple of South Florida - ECPv4.6//NONSGML v1.0//EN
CALSCALE:GREGORIAN
METHOD:PUBLISH
X-WR-CALNAME:Shiva Vishnu Temple of South Florida
X-ORIGINAL-URL:https://shivavishnu.org
X-WR-CALDESC:Events for Shiva Vishnu Temple of South Florida
BEGIN:VEVENT
DTSTART;TZID=America/New_York:20260316T183000
DTEND;TZID=America/New_York:20260316T183000
DTSTAMP:20260421T095315
CREATED:20251227T214452Z
LAST-MODIFIED:20251227T214452Z
UID:36881-1773685800-1773685800@shivavishnu.org
SUMMARY:Abhishekam to Shiva
DESCRIPTION:Dhanishta/Pradosham \n
URL:https://shivavishnu.org/event/abhishekam-to-shiva-796/
END:VEVENT
END:VCALENDAR