BEGIN:VCALENDAR
VERSION:2.0
PRODID:-//Shiva Vishnu Temple of South Florida - ECPv4.6//NONSGML v1.0//EN
CALSCALE:GREGORIAN
METHOD:PUBLISH
X-WR-CALNAME:Shiva Vishnu Temple of South Florida
X-ORIGINAL-URL:https://shivavishnu.org
X-WR-CALDESC:Events for Shiva Vishnu Temple of South Florida
BEGIN:VEVENT
DTSTART;TZID=America/New_York:20260414T183000
DTEND;TZID=America/New_York:20260414T183000
DTSTAMP:20260421T081557
CREATED:20260402T213136Z
LAST-MODIFIED:20260402T213136Z
UID:37020-1776191400-1776191400@shivavishnu.org
SUMMARY:Abhishekam to Shiva
DESCRIPTION:Vishu/Pradosham \n
URL:https://shivavishnu.org/event/abhishekam-to-shiva-801/
END:VEVENT
END:VCALENDAR