BEGIN:VCALENDAR
VERSION:2.0
PRODID:-//Shiva Vishnu Temple of South Florida - ECPv4.6//NONSGML v1.0//EN
CALSCALE:GREGORIAN
METHOD:PUBLISH
X-WR-CALNAME:Shiva Vishnu Temple of South Florida
X-ORIGINAL-URL:https://shivavishnu.org
X-WR-CALDESC:Events for Shiva Vishnu Temple of South Florida
BEGIN:VEVENT
DTSTART;TZID=America/New_York:20260528T183000
DTEND;TZID=America/New_York:20260528T183000
DTSTAMP:20260424T021305
CREATED:20260403T224130Z
LAST-MODIFIED:20260403T224130Z
UID:37098-1779993000-1779993000@shivavishnu.org
SUMMARY:Abhishekam to Shiva
DESCRIPTION:Swati/Pradosham \n
URL:https://shivavishnu.org/event/abhishekam-to-shiva-810/
END:VEVENT
END:VCALENDAR