BEGIN:VCALENDAR
VERSION:2.0
PRODID:-//Shiva Vishnu Temple of South Florida - ECPv4.6//NONSGML v1.0//EN
CALSCALE:GREGORIAN
METHOD:PUBLISH
X-WR-CALNAME:Shiva Vishnu Temple of South Florida
X-ORIGINAL-URL:https://shivavishnu.org
X-WR-CALDESC:Events for Shiva Vishnu Temple of South Florida
BEGIN:VEVENT
DTSTART;TZID=America/New_York:20260601T183000
DTEND;TZID=America/New_York:20260601T183000
DTSTAMP:20260424T110326
CREATED:20260403T225448Z
LAST-MODIFIED:20260403T225448Z
UID:37116-1780338600-1780338600@shivavishnu.org
SUMMARY:Abhishekam to Shiva
DESCRIPTION:Jyeshta \n
URL:https://shivavishnu.org/event/abhishekam-to-shiva-811/
END:VEVENT
END:VCALENDAR