BEGIN:VCALENDAR
VERSION:2.0
PRODID:-//Shiva Vishnu Temple of South Florida - ECPv4.6//NONSGML v1.0//EN
CALSCALE:GREGORIAN
METHOD:PUBLISH
X-WR-CALNAME:Shiva Vishnu Temple of South Florida
X-ORIGINAL-URL:https://shivavishnu.org
X-WR-CALDESC:Events for Shiva Vishnu Temple of South Florida
BEGIN:VEVENT
DTSTART;TZID=America/New_York:20260315T180000
DTEND;TZID=America/New_York:20260315T180000
DTSTAMP:20260421T082124
CREATED:20251227T214451Z
LAST-MODIFIED:20251227T214451Z
UID:36880-1773597600-1773597600@shivavishnu.org
SUMMARY:Ashva Vahanam
DESCRIPTION:Sravana \n
URL:https://shivavishnu.org/event/ashva-vahanam/
END:VEVENT
END:VCALENDAR