BEGIN:VCALENDAR
VERSION:2.0
PRODID:-//Shiva Vishnu Temple of South Florida - ECPv4.6//NONSGML v1.0//EN
CALSCALE:GREGORIAN
METHOD:PUBLISH
X-WR-CALNAME:Shiva Vishnu Temple of South Florida
X-ORIGINAL-URL:https://shivavishnu.org
X-WR-CALDESC:Events for Shiva Vishnu Temple of South Florida
BEGIN:VEVENT
DTSTART;TZID=America/New_York:20251207T183000
DTEND;TZID=America/New_York:20251207T183000
DTSTAMP:20260424T223615
CREATED:20251001T004056Z
LAST-MODIFIED:20251001T004056Z
UID:36664-1765132200-1765132200@shivavishnu.org
SUMMARY:Ashwa Vahanam
DESCRIPTION:Punarvasu \n
URL:https://shivavishnu.org/event/ashwa-vahanam-27/
END:VEVENT
END:VCALENDAR