BEGIN:VCALENDAR
VERSION:2.0
PRODID:-//Shiva Vishnu Temple of South Florida - ECPv4.6//NONSGML v1.0//EN
CALSCALE:GREGORIAN
METHOD:PUBLISH
X-WR-CALNAME:Shiva Vishnu Temple of South Florida
X-ORIGINAL-URL:https://shivavishnu.org
X-WR-CALDESC:Events for Shiva Vishnu Temple of South Florida
BEGIN:VEVENT
DTSTART;TZID=America/New_York:20260104T100000
DTEND;TZID=America/New_York:20260104T100000
DTSTAMP:20260423T183502
CREATED:20251227T161010Z
LAST-MODIFIED:20260102T120525Z
UID:36742-1767520800-1767520800@shivavishnu.org
SUMMARY:Ayyappa Abhishekam and Padi pooja
DESCRIPTION:Ayyappa Abhishekam and Padi pooja\nDetails\n
URL:https://shivavishnu.org/event/ayyappa-abhishekam-and-padi-pooja/
END:VEVENT
END:VCALENDAR