BEGIN:VCALENDAR
VERSION:2.0
PRODID:-//Shiva Vishnu Temple of South Florida - ECPv4.6//NONSGML v1.0//EN
CALSCALE:GREGORIAN
METHOD:PUBLISH
X-WR-CALNAME:Shiva Vishnu Temple of South Florida
X-ORIGINAL-URL:https://shivavishnu.org
X-WR-CALDESC:Events for Shiva Vishnu Temple of South Florida
BEGIN:VEVENT
DTSTART;TZID=America/New_York:20251021T190000
DTEND;TZID=America/New_York:20251021T190000
DTSTAMP:20260423T185132
CREATED:20250930T214136Z
LAST-MODIFIED:20250930T214136Z
UID:36551-1761073200-1761073200@shivavishnu.org
SUMMARY:Hanuman Chalisa
DESCRIPTION:Chitra/Amavasya \n
URL:https://shivavishnu.org/event/hanuman-chalisa-366/
END:VEVENT
END:VCALENDAR