BEGIN:VCALENDAR
VERSION:2.0
PRODID:-//Shiva Vishnu Temple of South Florida - ECPv4.6//NONSGML v1.0//EN
CALSCALE:GREGORIAN
METHOD:PUBLISH
X-WR-CALNAME:Shiva Vishnu Temple of South Florida
X-ORIGINAL-URL:https://shivavishnu.org
X-WR-CALDESC:Events for Shiva Vishnu Temple of South Florida
BEGIN:VEVENT
DTSTART;TZID=America/New_York:20260106T190000
DTEND;TZID=America/New_York:20260106T190000
DTSTAMP:20260423T183443
CREATED:20251227T161011Z
LAST-MODIFIED:20251227T161011Z
UID:36745-1767726000-1767726000@shivavishnu.org
SUMMARY:Hanuman Chalisa
DESCRIPTION:
URL:https://shivavishnu.org/event/hanuman-chalisa-374/
END:VEVENT
END:VCALENDAR