BEGIN:VCALENDAR
VERSION:2.0
PRODID:-//Shiva Vishnu Temple of South Florida - ECPv4.6//NONSGML v1.0//EN
CALSCALE:GREGORIAN
METHOD:PUBLISH
X-WR-CALNAME:Shiva Vishnu Temple of South Florida
X-ORIGINAL-URL:https://shivavishnu.org
X-WR-CALDESC:Events for Shiva Vishnu Temple of South Florida
BEGIN:VEVENT
DTSTART;TZID=America/New_York:20260428T190000
DTEND;TZID=America/New_York:20260428T190000
DTSTAMP:20260422T003343
CREATED:20260402T213217Z
LAST-MODIFIED:20260402T213217Z
UID:37044-1777402800-1777402800@shivavishnu.org
SUMMARY:Hanuman Chalisa
DESCRIPTION:Uttaraphalguni \n
URL:https://shivavishnu.org/event/hanuman-chalisa-385/
END:VEVENT
END:VCALENDAR