BEGIN:VCALENDAR
VERSION:2.0
PRODID:-//Shiva Vishnu Temple of South Florida - ECPv4.6//NONSGML v1.0//EN
CALSCALE:GREGORIAN
METHOD:PUBLISH
X-WR-CALNAME:Shiva Vishnu Temple of South Florida
X-ORIGINAL-URL:https://shivavishnu.org
X-WR-CALDESC:Events for Shiva Vishnu Temple of South Florida
BEGIN:VEVENT
DTSTART;TZID=America/New_York:20260519T190000
DTEND;TZID=America/New_York:20260519T190000
DTSTAMP:20260423T043023
CREATED:20260403T224111Z
LAST-MODIFIED:20260403T224111Z
UID:37085-1779217200-1779217200@shivavishnu.org
SUMMARY:Hanuman Chalisa
DESCRIPTION:Ardra  \n
URL:https://shivavishnu.org/event/hanuman-chalisa-387/
END:VEVENT
END:VCALENDAR