BEGIN:VCALENDAR
VERSION:2.0
PRODID:-//Shiva Vishnu Temple of South Florida - ECPv4.6//NONSGML v1.0//EN
CALSCALE:GREGORIAN
METHOD:PUBLISH
X-WR-CALNAME:Shiva Vishnu Temple of South Florida
X-ORIGINAL-URL:https://shivavishnu.org
X-WR-CALDESC:Events for Shiva Vishnu Temple of South Florida
BEGIN:VEVENT
DTSTART;TZID=America/New_York:20260526T190000
DTEND;TZID=America/New_York:20260526T190000
DTSTAMP:20260424T000257
CREATED:20260403T224126Z
LAST-MODIFIED:20260403T224126Z
UID:37096-1779822000-1779822000@shivavishnu.org
SUMMARY:Hanuman Chalisa
DESCRIPTION:Hasta/Ekadasi \n
URL:https://shivavishnu.org/event/hanuman-chalisa-388/
END:VEVENT
END:VCALENDAR