BEGIN:VCALENDAR
VERSION:2.0
PRODID:-//Shiva Vishnu Temple of South Florida - ECPv4.6//NONSGML v1.0//EN
CALSCALE:GREGORIAN
METHOD:PUBLISH
X-WR-CALNAME:Shiva Vishnu Temple of South Florida
X-ORIGINAL-URL:https://shivavishnu.org
X-WR-CALDESC:Events for Shiva Vishnu Temple of South Florida
BEGIN:VEVENT
DTSTART;TZID=America/New_York:20251026T183000
DTEND;TZID=America/New_York:20251026T183000
DTSTAMP:20260423T185040
CREATED:20250930T214139Z
LAST-MODIFIED:20250930T214139Z
UID:36562-1761503400-1761503400@shivavishnu.org
SUMMARY:Kandha Shashti parayanam\, Archana & Arathi
DESCRIPTION:Moola \n
URL:https://shivavishnu.org/event/kandha-shashti-parayanam-archana-arathi-4/
END:VEVENT
END:VCALENDAR