BEGIN:VCALENDAR
VERSION:2.0
PRODID:-//Shiva Vishnu Temple of South Florida - ECPv4.6//NONSGML v1.0//EN
CALSCALE:GREGORIAN
METHOD:PUBLISH
X-WR-CALNAME:Shiva Vishnu Temple of South Florida
X-ORIGINAL-URL:https://shivavishnu.org
X-WR-CALDESC:Events for Shiva Vishnu Temple of South Florida
BEGIN:VEVENT
DTSTART;TZID=America/New_York:20250914T110000
DTEND;TZID=America/New_York:20250914T110000
DTSTAMP:20260425T022616
CREATED:20250714T084023Z
LAST-MODIFIED:20250714T084023Z
UID:36433-1757847600-1757847600@shivavishnu.org
SUMMARY:Lalitha Sahasranama Parayanam
DESCRIPTION:Mrigashira \n
URL:https://shivavishnu.org/event/lalitha-sahasranama-parayanam-435/
END:VEVENT
END:VCALENDAR