BEGIN:VCALENDAR
VERSION:2.0
PRODID:-//Shiva Vishnu Temple of South Florida - ECPv4.6//NONSGML v1.0//EN
CALSCALE:GREGORIAN
METHOD:PUBLISH
X-WR-CALNAME:Shiva Vishnu Temple of South Florida
X-ORIGINAL-URL:https://shivavishnu.org
X-WR-CALDESC:Events for Shiva Vishnu Temple of South Florida
BEGIN:VEVENT
DTSTART;TZID=America/New_York:20250929T190000
DTEND;TZID=America/New_York:20250929T190000
DTSTAMP:20260425T022617
CREATED:20250714T084043Z
LAST-MODIFIED:20250714T084043Z
UID:36463-1759172400-1759172400@shivavishnu.org
SUMMARY:Lalitha Sahasranama Parayanam
DESCRIPTION:Moola \n
URL:https://shivavishnu.org/event/lalitha-sahasranama-parayanam-445/
END:VEVENT
END:VCALENDAR