BEGIN:VCALENDAR
VERSION:2.0
PRODID:-//Shiva Vishnu Temple of South Florida - ECPv4.6//NONSGML v1.0//EN
CALSCALE:GREGORIAN
METHOD:PUBLISH
X-WR-CALNAME:Shiva Vishnu Temple of South Florida
X-ORIGINAL-URL:https://shivavishnu.org
X-WR-CALDESC:Events for Shiva Vishnu Temple of South Florida
BEGIN:VEVENT
DTSTART;TZID=America/New_York:20251221T110000
DTEND;TZID=America/New_York:20251221T110000
DTSTAMP:20260423T183745
CREATED:20251001T004109Z
LAST-MODIFIED:20251001T004109Z
UID:36686-1766314800-1766314800@shivavishnu.org
SUMMARY:Lalitha Sahasranama Parayanam
DESCRIPTION:Poorvasadha \n
URL:https://shivavishnu.org/event/lalitha-sahasranama-parayanam-453/
END:VEVENT
END:VCALENDAR