BEGIN:VCALENDAR
VERSION:2.0
PRODID:-//Shiva Vishnu Temple of South Florida - ECPv4.6//NONSGML v1.0//EN
CALSCALE:GREGORIAN
METHOD:PUBLISH
X-WR-CALNAME:Shiva Vishnu Temple of South Florida
X-ORIGINAL-URL:https://shivavishnu.org
X-WR-CALDESC:Events for Shiva Vishnu Temple of South Florida
BEGIN:VEVENT
DTSTART;TZID=America/New_York:20251228T110000
DTEND;TZID=America/New_York:20251228T110000
DTSTAMP:20260423T183634
CREATED:20251001T004117Z
LAST-MODIFIED:20251001T004117Z
UID:36697-1766919600-1766919600@shivavishnu.org
SUMMARY:Lalitha Sahasranama Parayanam
DESCRIPTION:Revati \n
URL:https://shivavishnu.org/event/lalitha-sahasranama-parayanam-454/
END:VEVENT
END:VCALENDAR