BEGIN:VCALENDAR
VERSION:2.0
PRODID:-//Shiva Vishnu Temple of South Florida - ECPv4.6//NONSGML v1.0//EN
CALSCALE:GREGORIAN
METHOD:PUBLISH
X-WR-CALNAME:Shiva Vishnu Temple of South Florida
X-ORIGINAL-URL:https://shivavishnu.org
X-WR-CALDESC:Events for Shiva Vishnu Temple of South Florida
BEGIN:VEVENT
DTSTART;TZID=America/New_York:20260405T110000
DTEND;TZID=America/New_York:20260405T110000
DTSTAMP:20260419T074054
CREATED:20260402T213117Z
LAST-MODIFIED:20260402T213117Z
UID:37008-1775386800-1775386800@shivavishnu.org
SUMMARY:Lalitha Sahasranama Parayanam
DESCRIPTION:Visakha/Sankatahara Chathurthi \n
URL:https://shivavishnu.org/event/lalitha-sahasranama-parayanam-463/
END:VEVENT
END:VCALENDAR