BEGIN:VCALENDAR
VERSION:2.0
PRODID:-//Shiva Vishnu Temple of South Florida - ECPv4.6//NONSGML v1.0//EN
CALSCALE:GREGORIAN
METHOD:PUBLISH
X-WR-CALNAME:Shiva Vishnu Temple of South Florida
X-ORIGINAL-URL:https://shivavishnu.org
X-WR-CALDESC:Events for Shiva Vishnu Temple of South Florida
BEGIN:VEVENT
DTSTART;VALUE=DATE:20260509
DTEND;VALUE=DATE:20260509
DTSTAMP:20260422T134106
CREATED:20260403T224408Z
LAST-MODIFIED:20260405T145645Z
UID:37104-1778284800-1778371199@shivavishnu.org
SUMMARY:Mothers Day
DESCRIPTION:Mothers Day\nDetails\n
URL:https://shivavishnu.org/event/mothers-day-5/
END:VEVENT
END:VCALENDAR