BEGIN:VCALENDAR
VERSION:2.0
PRODID:-//Shiva Vishnu Temple of South Florida - ECPv4.6//NONSGML v1.0//EN
CALSCALE:GREGORIAN
METHOD:PUBLISH
X-WR-CALNAME:Shiva Vishnu Temple of South Florida
X-ORIGINAL-URL:https://shivavishnu.org
X-WR-CALDESC:Events for Shiva Vishnu Temple of South Florida
BEGIN:VEVENT
DTSTART;TZID=America/New_York:20251019T110000
DTEND;TZID=America/New_York:20251019T110000
DTSTAMP:20260423T185210
CREATED:20250930T214134Z
LAST-MODIFIED:20250930T214134Z
UID:36547-1760871600-1760871600@shivavishnu.org
SUMMARY:Pooja to Ayyappa
DESCRIPTION:Uttaraphalguni \n
URL:https://shivavishnu.org/event/pooja-to-ayyappa/
END:VEVENT
END:VCALENDAR