BEGIN:VCALENDAR
VERSION:2.0
PRODID:-//Shiva Vishnu Temple of South Florida - ECPv4.6//NONSGML v1.0//EN
CALSCALE:GREGORIAN
METHOD:PUBLISH
X-WR-CALNAME:Shiva Vishnu Temple of South Florida
X-ORIGINAL-URL:https://shivavishnu.org
X-WR-CALDESC:Events for Shiva Vishnu Temple of South Florida
BEGIN:VEVENT
DTSTART;TZID=America/New_York:20251025T093000
DTEND;TZID=America/New_York:20251025T093000
DTSTAMP:20260425T011129
CREATED:20250930T214137Z
LAST-MODIFIED:20250930T214137Z
UID:36556-1761384600-1761384600@shivavishnu.org
SUMMARY:Pooja to Venkateshwara followed by Vishnu Sahasranama Parayanam
DESCRIPTION:Jyeshta \n
URL:https://shivavishnu.org/event/pooja-to-venkateshwara-followed-by-vishnu-sahasranama-parayanam-4/
END:VEVENT
END:VCALENDAR