BEGIN:VCALENDAR
VERSION:2.0
PRODID:-//Shiva Vishnu Temple of South Florida - ECPv4.6//NONSGML v1.0//EN
CALSCALE:GREGORIAN
METHOD:PUBLISH
X-WR-CALNAME:Shiva Vishnu Temple of South Florida
X-ORIGINAL-URL:https://shivavishnu.org
X-WR-CALDESC:Events for Shiva Vishnu Temple of South Florida
BEGIN:VEVENT
DTSTART;TZID=America/New_York:20251220T183000
DTEND;TZID=America/New_York:20251220T183000
DTSTAMP:20260423T183802
CREATED:20251001T004109Z
LAST-MODIFIED:20251001T004109Z
UID:36685-1766255400-1766255400@shivavishnu.org
SUMMARY:Prakarotsavam of Anjaneya & Sahasranama Archana
DESCRIPTION:Moola \n
URL:https://shivavishnu.org/event/prakarotsavam-of-anjaneya-sahasranama-archana/
END:VEVENT
END:VCALENDAR