BEGIN:VCALENDAR
VERSION:2.0
PRODID:-//Shiva Vishnu Temple of South Florida - ECPv4.6//NONSGML v1.0//EN
CALSCALE:GREGORIAN
METHOD:PUBLISH
X-WR-CALNAME:Shiva Vishnu Temple of South Florida
X-ORIGINAL-URL:https://shivavishnu.org
X-WR-CALDESC:Events for Shiva Vishnu Temple of South Florida
BEGIN:VEVENT
DTSTART;VALUE=DATE:20250728
DTEND;VALUE=DATE:20250728
DTSTAMP:20260423T191038
CREATED:20250713T230419Z
LAST-MODIFIED:20250713T231102Z
UID:36332-1753660800-1753747199@shivavishnu.org
SUMMARY:Thiruvadi Pooram
DESCRIPTION:Thiruvadi Pooram\n9:30AM Thirumanjanam to Andal  / Tiruppavai Recitation\n6:30PM Prakarotsavam\, Archana & Aarathi\nSponsorship: $ 25 \n
URL:https://shivavishnu.org/event/prakarotsavam-special-pooja-to-andal/
END:VEVENT
END:VCALENDAR