BEGIN:VCALENDAR
VERSION:2.0
PRODID:-//Shiva Vishnu Temple of South Florida - ECPv4.6//NONSGML v1.0//EN
CALSCALE:GREGORIAN
METHOD:PUBLISH
X-WR-CALNAME:Shiva Vishnu Temple of South Florida
X-ORIGINAL-URL:https://shivavishnu.org
X-WR-CALDESC:Events for Shiva Vishnu Temple of South Florida
BEGIN:VEVENT
DTSTART;TZID=America/New_York:20260303T110000
DTEND;TZID=America/New_York:20260303T110000
DTSTAMP:20260421T081952
CREATED:20251227T214437Z
LAST-MODIFIED:20251227T214437Z
UID:36859-1772535600-1772535600@shivavishnu.org
SUMMARY:Prokshanam  to Andal
DESCRIPTION:Poorvaphalguni \n
URL:https://shivavishnu.org/event/prokshanam-to-andal/
END:VEVENT
END:VCALENDAR