BEGIN:VCALENDAR
VERSION:2.0
PRODID:-//Shiva Vishnu Temple of South Florida - ECPv4.6//NONSGML v1.0//EN
CALSCALE:GREGORIAN
METHOD:PUBLISH
X-WR-CALNAME:Shiva Vishnu Temple of South Florida
X-ORIGINAL-URL:https://shivavishnu.org
X-WR-CALDESC:Events for Shiva Vishnu Temple of South Florida
BEGIN:VEVENT
DTSTART;TZID=America/New_York:20260328T083000
DTEND;TZID=America/New_York:20260328T083000
DTSTAMP:20260421T200252
CREATED:20251227T214504Z
LAST-MODIFIED:20251227T215707Z
UID:36903-1774686600-1774686600@shivavishnu.org
SUMMARY:Ramatharaka homam
DESCRIPTION:Ramatharaka homam\n/Ekadasi\n
URL:https://shivavishnu.org/event/ramatharaka-homam-2/
END:VEVENT
END:VCALENDAR