BEGIN:VCALENDAR
VERSION:2.0
PRODID:-//Shiva Vishnu Temple of South Florida - ECPv4.6//NONSGML v1.0//EN
CALSCALE:GREGORIAN
METHOD:PUBLISH
X-WR-CALNAME:Shiva Vishnu Temple of South Florida
X-ORIGINAL-URL:https://shivavishnu.org
X-WR-CALDESC:Events for Shiva Vishnu Temple of South Florida
BEGIN:VEVENT
DTSTART;TZID=America/New_York:20260319T190000
DTEND;TZID=America/New_York:20260319T190000
DTSTAMP:20260421T171102
CREATED:20251227T214455Z
LAST-MODIFIED:20260102T121738Z
UID:36885-1773946800-1773946800@shivavishnu.org
SUMMARY:Chandramana Ugadhi
DESCRIPTION:Chandramana Ugadhi\nRamayana Parayanam\nDetails\n
URL:https://shivavishnu.org/event/ramayana-parayanam-85/
END:VEVENT
END:VCALENDAR