BEGIN:VCALENDAR
VERSION:2.0
PRODID:-//Shiva Vishnu Temple of South Florida - ECPv4.6//NONSGML v1.0//EN
CALSCALE:GREGORIAN
METHOD:PUBLISH
X-WR-CALNAME:Shiva Vishnu Temple of South Florida
X-ORIGINAL-URL:https://shivavishnu.org
X-WR-CALDESC:Events for Shiva Vishnu Temple of South Florida
BEGIN:VEVENT
DTSTART;TZID=America/New_York:20260325T190000
DTEND;TZID=America/New_York:20260325T190000
DTSTAMP:20260422T015146
CREATED:20251227T214502Z
LAST-MODIFIED:20251227T214502Z
UID:36899-1774465200-1774465200@shivavishnu.org
SUMMARY:Ramayana Parayanam
DESCRIPTION:Mrigashira \n
URL:https://shivavishnu.org/event/ramayana-parayanam-91/
END:VEVENT
END:VCALENDAR