BEGIN:VCALENDAR
VERSION:2.0
PRODID:-//Shiva Vishnu Temple of South Florida - ECPv4.6//NONSGML v1.0//EN
CALSCALE:GREGORIAN
METHOD:PUBLISH
X-WR-CALNAME:Shiva Vishnu Temple of South Florida
X-ORIGINAL-URL:https://shivavishnu.org
X-WR-CALDESC:Events for Shiva Vishnu Temple of South Florida
BEGIN:VEVENT
DTSTART;TZID=America/New_York:20250808T163000
DTEND;TZID=America/New_York:20250808T163000
DTSTAMP:20260425T034028
CREATED:20250713T232404Z
LAST-MODIFIED:20250713T232404Z
UID:36358-1754670600-1754670600@shivavishnu.org
SUMMARY:Satyanarayana Pooja
DESCRIPTION:Mahalakshmi Vratham \n
URL:https://shivavishnu.org/event/satyanarayana-pooja-21/
END:VEVENT
END:VCALENDAR