BEGIN:VCALENDAR
VERSION:2.0
PRODID:-//Shiva Vishnu Temple of South Florida - ECPv4.6//NONSGML v1.0//EN
CALSCALE:GREGORIAN
METHOD:PUBLISH
X-WR-CALNAME:Shiva Vishnu Temple of South Florida
X-ORIGINAL-URL:https://shivavishnu.org
X-WR-CALDESC:Events for Shiva Vishnu Temple of South Florida
BEGIN:VEVENT
DTSTART;TZID=America/New_York:20260430T183000
DTEND;TZID=America/New_York:20260430T183000
DTSTAMP:20260422T051107
CREATED:20260402T213221Z
LAST-MODIFIED:20260402T213221Z
UID:37047-1777573800-1777573800@shivavishnu.org
SUMMARY:Satyanarayana Puja
DESCRIPTION:Chitra \n
URL:https://shivavishnu.org/event/satyanarayana-puja-89/
END:VEVENT
END:VCALENDAR