BEGIN:VCALENDAR
VERSION:2.0
PRODID:-//Shiva Vishnu Temple of South Florida - ECPv4.6//NONSGML v1.0//EN
CALSCALE:GREGORIAN
METHOD:PUBLISH
X-WR-CALNAME:Shiva Vishnu Temple of South Florida
X-ORIGINAL-URL:https://shivavishnu.org
X-WR-CALDESC:Events for Shiva Vishnu Temple of South Florida
BEGIN:VEVENT
DTSTART;TZID=America/New_York:20250829T190000
DTEND;TZID=America/New_York:20250829T190000
DTSTAMP:20260425T033607
CREATED:20250713T232422Z
LAST-MODIFIED:20250713T232422Z
UID:36391-1756494000-1756494000@shivavishnu.org
SUMMARY:Special pooja to Lakshmi
DESCRIPTION:Visakha \n
URL:https://shivavishnu.org/event/special-pooja-to-lakshmi-158/
END:VEVENT
END:VCALENDAR